BEGIN:VCALENDAR
VERSION:2.0
PRODID:-//ZContent.net//ZapCalLib 1.0//EN
CALSCALE:GREGORIAN
METHOD:PUBLISH
BEGIN:VEVENT
SUMMARY:Kurkonzert
DTSTART:20260416T150000
DTEND:20260416T163000
DTSTAMP:20260421T114121
LOCATION:Klinik Dr. Baumstark
END:VEVENT
END:VCALENDAR
